BEGIN:VCALENDAR
VERSION:2.0
PRODID:-//William Heritage Winery - ECPv6.14.2//NONSGML v1.0//EN
CALSCALE:GREGORIAN
METHOD:PUBLISH
X-WR-CALNAME:William Heritage Winery
X-ORIGINAL-URL:https://heritagewinenj.com
X-WR-CALDESC:Events for William Heritage Winery
REFRESH-INTERVAL;VALUE=DURATION:PT1H
X-Robots-Tag:noindex
X-PUBLISHED-TTL:PT1H
BEGIN:VTIMEZONE
TZID:America/New_York
BEGIN:DAYLIGHT
TZOFFSETFROM:-0500
TZOFFSETTO:-0400
TZNAME:EDT
DTSTART:20200308T070000
END:DAYLIGHT
BEGIN:STANDARD
TZOFFSETFROM:-0400
TZOFFSETTO:-0500
TZNAME:EST
DTSTART:20201101T060000
END:STANDARD
END:VTIMEZONE
BEGIN:VEVENT
DTSTART;TZID=America/New_York:20200924T183000
DTEND;TZID=America/New_York:20200924T200000
DTSTAMP:20260425T220248
CREATED:20200813T182812Z
LAST-MODIFIED:20200917T125659Z
UID:6233-1600972200-1600977600@heritagewinenj.com
SUMMARY:Virtual Tasting - Red Wine Box - September 24\, 2020
DESCRIPTION:Taste along with our winemaking crew for a virtual tasting on Thursday\, September 24th at 6:30pm on Instagram LIVE. Make sure to purchase ahead of time so you can taste along! \nBox Includes\n2018 Merlot\n2018 Syrah\n2018 Chambourcin\nSuggested cheese & chocolate pairing cards\nWine evaluation sheets \n \nBox Cost\n$80 / box\n10% discount for wine club members\nMax discount 10%. No additional discounts apply to wine tasting at home box ( quarantine discounts\, case discounts\, etc.) \n  \nPURCHASE YOUR BOX HERE \nFor more info click the image below.
URL:https://heritagewinenj.com/events/virtual-tasting-red-wine-box-save-the-date/
LOCATION:Heritage Vineyards\, 480 Mullica Hill Road\, Mullica Hill\, NJ\, 08062\, United States
CATEGORIES:Upcoming Events
END:VEVENT
END:VCALENDAR