BEGIN:VCALENDAR
VERSION:2.0
PRODID:-//William Heritage Winery - ECPv6.14.2//NONSGML v1.0//EN
CALSCALE:GREGORIAN
METHOD:PUBLISH
X-WR-CALNAME:William Heritage Winery
X-ORIGINAL-URL:https://heritagewinenj.com
X-WR-CALDESC:Events for William Heritage Winery
REFRESH-INTERVAL;VALUE=DURATION:PT1H
X-Robots-Tag:noindex
X-PUBLISHED-TTL:PT1H
BEGIN:VTIMEZONE
TZID:America/New_York
BEGIN:DAYLIGHT
TZOFFSETFROM:-0500
TZOFFSETTO:-0400
TZNAME:EDT
DTSTART:20210314T070000
END:DAYLIGHT
BEGIN:STANDARD
TZOFFSETFROM:-0400
TZOFFSETTO:-0500
TZNAME:EST
DTSTART:20211107T060000
END:STANDARD
END:VTIMEZONE
BEGIN:VEVENT
DTSTART;TZID=America/New_York:20210430T183000
DTEND;TZID=America/New_York:20210430T200000
DTSTAMP:20260425T114549
CREATED:20201210T203338Z
LAST-MODIFIED:20210416T123534Z
UID:6448-1619807400-1619812800@heritagewinenj.com
SUMMARY:Virtual Wine Tasting for Charity - Save The Date
DESCRIPTION:  \n \nWe are offering a Virtual Wine Tasting for Charity Box of focus\, the Sunshine Foundation.    \nFor every Charity Box purchased\, we will donate $20 to this amazing organization who helps children from income-limited families living with a chronic illness\, a physical challenge or suffering from the trauma of abuse. \nGuests will be able to purchase the Charity Box starting April 16\, 2021.  Log on to our William Heritage Instagram account on April 30\, 2021 to sample along with our winemakers and learn more about the winemaking process! \n \nWine Tasting For Charity Box Includes \n\nThree new wine releases!\n\n2020 Pinot Gris\n2020 Unoaked Chardonnay  \n2020 Grenache Syrah Rosé \n\n\n*** Special Note: These three new release wines will only be available in the wine tasting for charity box starting on April 16\, 2021 – they will not be released for individual bottle sales until May 1\, 2021. Due to limited availability Unoaked Chardonnay and Grenache Syrah Rosé will only be available for purchase for Wine Club Members starting on May 1\, 2021. The general public will only have access to Unoaked Chardonnay and Grenache Syrah Rosé as part of the Wine Tasting For Charity Box (April 16\, 2021 through April 30\, 2021).  2020 Pinot Gris will be released to the general public for individual bottle sales May 1\, 2021. \n\nTo sum it up: If you want to purchase Unoaked Chardonnay and Grenache Syrah Rosé and you are not a wine club member\, you can only purchase them as a bundle in the Wine Tasting for Charity Box 4/16/21 – 4/30/21. \n\n\nBox will also include wine information cards & wine evaluation sheets.\n$70 per box\, $20 from each box sold will go to the Sunshine Foundation. \nWine Club Members receive 10% OFF box purchase\, with $20 from each box sold going to the Sunshine Foundation. \n\nJoin us on Instagram for a virtual tasting of these three newly released wines and learn about the winemaking process from our winemaker. \nVirtual Tasting Save the Date: April 30\, 2021 at 6:30 PM.  \n \nWine Tasting for Charity Box will be available for purchase at either of our tasting room locations in Mullica Hill or Haddonfield. Also available for purchase from our online store for in-store pick up or shipping to NJ\, PA and Washington DC. \n\nAvailable for purchase starting April 16\, 2021. $70 per box ($20 from each box sale will be donated to the Sunshine Foundation). Wine Club members will receive 10% off each box\, with $20 from each box sold going to charity foundation.   \nIf you are part of a non-profit group or civic organization and would like to join us for your own fundraising efforts – click here for more information.  
URL:https://heritagewinenj.com/events/virtual-wine-tasting-for-charity/
LOCATION:Instagram Live\, NJ
CATEGORIES:Upcoming Events
END:VEVENT
END:VCALENDAR