BEGIN:VCALENDAR
VERSION:2.0
PRODID:-//William Heritage Winery - ECPv6.14.2//NONSGML v1.0//EN
CALSCALE:GREGORIAN
METHOD:PUBLISH
X-WR-CALNAME:William Heritage Winery
X-ORIGINAL-URL:https://heritagewinenj.com
X-WR-CALDESC:Events for William Heritage Winery
REFRESH-INTERVAL;VALUE=DURATION:PT1H
X-Robots-Tag:noindex
X-PUBLISHED-TTL:PT1H
BEGIN:VTIMEZONE
TZID:America/New_York
BEGIN:DAYLIGHT
TZOFFSETFROM:-0500
TZOFFSETTO:-0400
TZNAME:EDT
DTSTART:20210314T070000
END:DAYLIGHT
BEGIN:STANDARD
TZOFFSETFROM:-0400
TZOFFSETTO:-0500
TZNAME:EST
DTSTART:20211107T060000
END:STANDARD
END:VTIMEZONE
BEGIN:VEVENT
DTSTART;TZID=America/New_York:20210501T110000
DTEND;TZID=America/New_York:20210502T180000
DTSTAMP:20260425T101911
CREATED:20210420T194137Z
LAST-MODIFIED:20210420T194410Z
UID:6595-1619866800-1619978400@heritagewinenj.com
SUMMARY:Down & Derby Wine Weekend
DESCRIPTION:Visit South Jersey\, in partnership with The Camden County Board of Commissioners and Audacy\, Formerly Entercom Media\, invites you to Down and Derby Wine Weekend from May 1-2\, 2021. Due to the COVID-19 pandemic\, the popular Down and Derby Wine Festival will not be held this year\, but that’s not stopping us from celebrating the Kentucky Derby and our region’s award-wining wine!\n\n\n \n\n\nThis year\, we invite festival goers to put on their best derby outfits\, and make reservations at one of our participating wineries to celebrate the race. The goal is to support our wonderful wine region\, while keeping the Down and Derby event top of mind to come back strong in 2022.  Please make your reservations directly with each winery (Please Note: Guests must follow proper COVID-10 protocol established per location. Limited reservations will be available at each winery\, so act quickly).\n\n\n \n\n\nNot able to visit a winery during the weekend? Place an order of your favorite wines and have them delivered to your home – you can still put on your best derby outfits\, take photos and hashtag the event to win prizes! \n 
URL:https://heritagewinenj.com/events/down-derby-wine-weekend/
LOCATION:Heritage Vineyards\, 480 Mullica Hill Road\, Mullica Hill\, NJ\, 08062\, United States
CATEGORIES:Upcoming Events
END:VEVENT
END:VCALENDAR