BEGIN:VCALENDAR
VERSION:2.0
PRODID:-//William Heritage Winery - ECPv6.14.2//NONSGML v1.0//EN
CALSCALE:GREGORIAN
METHOD:PUBLISH
X-ORIGINAL-URL:https://heritagewinenj.com
X-WR-CALDESC:Events for William Heritage Winery
REFRESH-INTERVAL;VALUE=DURATION:PT1H
X-Robots-Tag:noindex
X-PUBLISHED-TTL:PT1H
BEGIN:VTIMEZONE
TZID:America/New_York
BEGIN:DAYLIGHT
TZOFFSETFROM:-0500
TZOFFSETTO:-0400
TZNAME:EDT
DTSTART:20210314T070000
END:DAYLIGHT
BEGIN:STANDARD
TZOFFSETFROM:-0400
TZOFFSETTO:-0500
TZNAME:EST
DTSTART:20211107T060000
END:STANDARD
END:VTIMEZONE
BEGIN:VEVENT
DTSTART;TZID=America/New_York:20211225T100000
DTEND;TZID=America/New_York:20211225T180000
DTSTAMP:20260424T232255
CREATED:20181031T184929Z
LAST-MODIFIED:20210924T151507Z
UID:4709-1640426400-1640455200@heritagewinenj.com
SUMMARY:Tasting Room is Closed for the Christmas Holiday
DESCRIPTION:  \nThe Heritage Family and winery team want to wish all of those who celebrate a very merry Christmas. \n 
URL:https://heritagewinenj.com/events/tasting-room-closed-christmas-holiday/
LOCATION:Heritage Vineyards\, 480 Mullica Hill Road\, Mullica Hill\, NJ\, 08062\, United States
CATEGORIES:Upcoming Events
END:VEVENT
END:VCALENDAR