BEGIN:VCALENDAR
VERSION:2.0
PRODID:-//William Heritage Winery - ECPv6.14.2//NONSGML v1.0//EN
CALSCALE:GREGORIAN
METHOD:PUBLISH
X-ORIGINAL-URL:https://heritagewinenj.com
X-WR-CALDESC:Events for William Heritage Winery
REFRESH-INTERVAL;VALUE=DURATION:PT1H
X-Robots-Tag:noindex
X-PUBLISHED-TTL:PT1H
BEGIN:VTIMEZONE
TZID:America/New_York
BEGIN:DAYLIGHT
TZOFFSETFROM:-0500
TZOFFSETTO:-0400
TZNAME:EDT
DTSTART:20230312T070000
END:DAYLIGHT
BEGIN:STANDARD
TZOFFSETFROM:-0400
TZOFFSETTO:-0500
TZNAME:EST
DTSTART:20231105T060000
END:STANDARD
END:VTIMEZONE
BEGIN:VEVENT
DTSTART;TZID=America/New_York:20230905T120000
DTEND;TZID=America/New_York:20231002T210000
DTSTAMP:20260421T105051
CREATED:20220901T214038Z
LAST-MODIFIED:20231003T181102Z
UID:7104-1693915200-1696280400@heritagewinenj.com
SUMMARY:Wine Club Quarterly Release - Fall 2023
DESCRIPTION:  \n  \nThe Fall 2023 Wine Club billing will take place on\nMonday\, September 4th\nPick up will start on Tuesday\, September 5th after 12 noon\nin Mullica Hill and 1pm in Haddonfield\n 
URL:https://heritagewinenj.com/events/wine-club-quarterly-release/
LOCATION:Heritage Vineyards\, 480 Mullica Hill Road\, Mullica Hill\, NJ\, 08062\, United States
CATEGORIES:Upcoming Events
END:VEVENT
BEGIN:VEVENT
DTSTART;TZID=America/New_York:20230919T160000
DTEND;TZID=America/New_York:20230919T210000
DTSTAMP:20260421T105051
CREATED:20230807T163305Z
LAST-MODIFIED:20230907T170732Z
UID:7389-1695139200-1695157200@heritagewinenj.com
SUMMARY:Taco Tuesday is Back!
DESCRIPTION:YOU ASKED\, WE LISTENED!\nTaco Tuesday is back by popular demand.\nTuesday\, September 19\, 2023 – Mullica Hill Tasting Room\n4-9pm (or until food truck has sold out) \n \nCome spend the evening with us and Julio’s on Main for Taco Tuesday \nEnjoy 1/2 price flights \n$5 OFF any bottle of wine \nWine by the glass specials – WH Select Chardonnay $6/glass\, WH Reserve White Blend $8/glass\, WH Cabernet Franc $7/glass\, WH Select Syrah $7/glass\, Jersey White $5/glass\, Jersey Red $5/glass \nLive music with Dave Kelly \nFood truck fare for purchase – Best Mexican Restaurant in South Jersey \nThe winners of New Jersey Monthly’s 40th annual Jersey Choice Restaurant Poll. By New Jersey Monthly\n  \n \n  \n \n  \nTacos & wine available to-go \nPick up your taco order and a bottle of wine to-go and receive $5 off your bottle purchase \n  \n 
URL:https://heritagewinenj.com/events/taco-tuesday-is-back/
LOCATION:Heritage Vineyards\, 480 Mullica Hill Road\, Mullica Hill\, NJ\, 08062\, United States
CATEGORIES:Upcoming Events
END:VEVENT
END:VCALENDAR