BEGIN:VCALENDAR
VERSION:2.0
PRODID:-//William Heritage Winery - ECPv6.14.2//NONSGML v1.0//EN
CALSCALE:GREGORIAN
METHOD:PUBLISH
X-WR-CALNAME:William Heritage Winery
X-ORIGINAL-URL:https://heritagewinenj.com
X-WR-CALDESC:Events for William Heritage Winery
REFRESH-INTERVAL;VALUE=DURATION:PT1H
X-Robots-Tag:noindex
X-PUBLISHED-TTL:PT1H
BEGIN:VTIMEZONE
TZID:America/New_York
BEGIN:DAYLIGHT
TZOFFSETFROM:-0500
TZOFFSETTO:-0400
TZNAME:EDT
DTSTART:20230312T070000
END:DAYLIGHT
BEGIN:STANDARD
TZOFFSETFROM:-0400
TZOFFSETTO:-0500
TZNAME:EST
DTSTART:20231105T060000
END:STANDARD
BEGIN:DAYLIGHT
TZOFFSETFROM:-0500
TZOFFSETTO:-0400
TZNAME:EDT
DTSTART:20240310T070000
END:DAYLIGHT
BEGIN:STANDARD
TZOFFSETFROM:-0400
TZOFFSETTO:-0500
TZNAME:EST
DTSTART:20241103T060000
END:STANDARD
BEGIN:DAYLIGHT
TZOFFSETFROM:-0500
TZOFFSETTO:-0400
TZNAME:EDT
DTSTART:20250309T070000
END:DAYLIGHT
BEGIN:STANDARD
TZOFFSETFROM:-0400
TZOFFSETTO:-0500
TZNAME:EST
DTSTART:20251102T060000
END:STANDARD
BEGIN:DAYLIGHT
TZOFFSETFROM:-0500
TZOFFSETTO:-0400
TZNAME:EDT
DTSTART:20260308T070000
END:DAYLIGHT
BEGIN:STANDARD
TZOFFSETFROM:-0400
TZOFFSETTO:-0500
TZNAME:EST
DTSTART:20261101T060000
END:STANDARD
END:VTIMEZONE
BEGIN:VEVENT
DTSTART;TZID=America/New_York:20231001T120000
DTEND;TZID=America/New_York:20231031T210000
DTSTAMP:20260425T101738
CREATED:20210924T150916Z
LAST-MODIFIED:20231023T202719Z
UID:6758-1696161600-1698786000@heritagewinenj.com
SUMMARY:Fall 2023 Wine Tasting Options
DESCRIPTION:Wine Flight = 5 2oz samples of wine\n \n  \nReserve Wine Flight $28 \n2022 Reserve Rose \n2022 WH Reserve White Blend \n2022 WH Reserve Chardonnay \n2021 WH Cabernet Franc \n2021 WH Reserve Five Gen \n  \nClassic Wine Flight $26 \n\n\n\n\n\n\n\n\n\n\n\n\n\n\n\n\n\nWH Select Rose\nWH Select Chardonnay\nWH Proprietor’s Red Blend\nWH Select Cabernet Sauvignon\nWH Select Syrah\n \n\n\n\n\n\n\n\n\n\n\n\n\n\n\n\n\n\nThe Sweeter Side Wine Flight $22 \n\n\n\n\n\n\n\n\n\n\n\n\n\n\n\n\n\nRed Cider\nJersey White\nJersey Red\nJersey Peach\nJersey Blue\n \n 
URL:https://heritagewinenj.com/events/summer-2023-wine-tasting-options/
LOCATION:William Heritage Winery\, 480 Mullica Hill Road\, Mulica Hill\, 08062
CATEGORIES:Upcoming Events
END:VEVENT
BEGIN:VEVENT
DTSTART;TZID=America/New_York:20231104T120000
DTEND;TZID=America/New_York:20231126T170000
DTSTAMP:20260425T101738
CREATED:20180104T161929Z
LAST-MODIFIED:20231101T175334Z
UID:7488-1699099200-1701018000@heritagewinenj.com
SUMMARY:Extended Through November! Harvest Weekends - Live Music & Food Trucks
DESCRIPTION:  \nJoin us Saturdays & Sundays for our Harvest Weekends\nTake in the beautiful fall foliage!\nEnjoy wine by the glass\, bottle or a wine flight in our outdoor seating area.  \n \nLive music from 12pm – 5:00 pm. \n \nDelicious food from our visiting food trucks will be available for purchase. \n \n  \nNovember Music & Food Vendors\nNov 4: Sean Jennings 1-5         Julio’s on Main & Top Shelf\nNov 5: Anker 12-5                     Top Shelf Mobile Cuisine \n  \nNov 11: Steph Owens 12-5           Julio’s on Main & Top Shelf\nNov 12: Greg Jones 12-5                Top Shelf Mobile Cuisine \n  \nNov 18: Sean Jennings 1-5        Buon Viaggio Mobile Wood Fired Pizza\nNov 19: Steph Owens 12-5       Buon Viaggio Mobile Wood Fired Pizza \n  \nNov 25: Erik Wozniak 12-5      Buon Viaggio Mobile Wood Fired Pizza\nNov 26: Greg Jones 12-5          Buon Viaggio Mobile Wood Fired Pizza \n  \nYour guide to harvest weekends:\n \n\nDogs are allowed in our outside area.\nGuests of all ages are welcome to join us.\nWe are a smoke free facility.\nNo outside food is allowed (this includes cake).\nReservations are not accepted\, seating is first come first serve.\n\n \n  \nHarvest weekends are the perfect place to celebrate our new fall wine releases!\n \nNovember wine releases include:\n\n2022 William Heritage Skin Contact Pinot Gris (Orange Wine)\n2022 William Heritage Semillon\n2022 William Heritage Reserve BDX Blanc\n2022 William Heritage Painted Horse\nJersey Jingle (Sweet Red Blend)\nRed Sled Cabernet Sauvignon\n\nNew release wines are now available to sample on tasting sheets at our Mullica Hill and Haddonfield tasting rooms. Due to limited availability\, we were unable to feature Jersey Cheer and Red Sled on our tasting sheets. \n  \n  \n  \n\n\n\n		\n		[Show slideshow]
URL:https://heritagewinenj.com/events/extended-through-november-harvest-weekends-live-music-food-trucks/
LOCATION:William Heritage Winery\, 480 Mullica Hill Road\, Mulica Hill\, 08062
CATEGORIES:Upcoming Events
END:VEVENT
BEGIN:VEVENT
DTSTART;VALUE=DATE:20231106
DTEND;VALUE=DATE:20231201
DTSTAMP:20260425T101739
CREATED:20231002T165647Z
LAST-MODIFIED:20231030T184209Z
UID:7404-1699228800-1701388799@heritagewinenj.com
SUMMARY:Fall Menu Specials
DESCRIPTION:The Heritage family has had six generations farm apples on the\nWilliam Heritage Estate.\nTo honor our past generations\, we are excited to announce a brand new cider tasting\nat our Mullica Hill location for a limited time!\nTaste through the family history at William Heritage Winery\, sampling the Jonomac Cider\, Stayman Cider\, Golden Red Cider\, and Red Canned Cider. \n \nTasting is $10 and subject to change due to availability. Available Monday-Friday at the Mullica Hill location only.\nSeating is on a first come\, first serve basis. We do not accept reservations.  \nClick here for more info on our ciders. \n \nOur kitchen has whipped up a mouth-watering\nfeatured fall menu.\nMenu features two brand new sandwiches\, a farm-to-table flatbread\,\nand a brand new take on our baked brie! Available Tuesday-Friday only.  \nHoney Mustard Chicken or Veggie Sandwich\n \nThis sandwich comes with either oven-baked chicken\, or roasted Portabello mushroom\, zucchini\, and red pepper\, with melted mustard seed gouda\, arugula\, honey mustard\, and a scallion dijon aioli on top of a pretzel warm pretzel bun. $16 \nSpiced Caramel Apple Flatbread\n \nThis is a delightful farm-to-table flatbread featuring caramel cream\, cinnamon spiced apples sourced from the William Heritage estate\, topped with a gingerbread streussel. $16 \nFall Inspired Baked Brie\n \nA delicious new take on our infamous baked brie. Warm Danish Costello Brie topped with apple butter and crushed\ngraham crackers. Served with assorted crackers. $14
URL:https://heritagewinenj.com/events/fall-menu-specials/
LOCATION:Heritage Vineyards\, 480 Mullica Hill Road\, Mullica Hill\, NJ\, 08062\, United States
CATEGORIES:Upcoming Events
END:VEVENT
BEGIN:VEVENT
DTSTART;TZID=America/New_York:20231113T120000
DTEND;TZID=America/New_York:20231119T210000
DTSTAMP:20260425T101739
CREATED:20231106T204558Z
LAST-MODIFIED:20231106T204558Z
UID:7560-1699876800-1700427600@heritagewinenj.com
SUMMARY:NJ Wine Week
DESCRIPTION:Put November 13 – 19 on your calendar and join us in support of New Jersey’s week-long celebration of the wine\, vines and people of the Garden State Wine Growers Association.\nJoin us in our Mullica Hill or Haddonfield tasting room to celebrate NJ Wine Week.\nMention NJ Wine Week and receive $5 off one bottle of wine.\nCheers to NJ Wines \n  \n  \n  \n 
URL:https://heritagewinenj.com/events/nj-wine-week/
LOCATION:Heritage Vineyards\, 480 Mullica Hill Road\, Mullica Hill\, NJ\, 08062\, United States
CATEGORIES:Upcoming Events
END:VEVENT
BEGIN:VEVENT
DTSTART;TZID=America/New_York:20231201T100000
DTEND;TZID=America/New_York:20240102T180000
DTSTAMP:20260425T101739
CREATED:20210924T153049Z
LAST-MODIFIED:20240924T142155Z
UID:6765-1701424800-1704218400@heritagewinenj.com
SUMMARY:2023 Holiday Hours
DESCRIPTION:The Tasting Rooms in Mullica Hill and Haddonfield will have the following holiday hours \n\nSunday\, December 24th Mullica Hill and Haddonfield – 10-2pm\nMonday\, December 25th CLOSED\nTuesday\, December 26th Mullica Hill 12-9pm and Haddonfield 1-9pm\nSunday\,December 31st Mullica Hill and Haddonfield 10am – 2pm\nMonday\, January 1st  CLOSED\nTuesday\, January 2nd Mullica Hill 12-9pm Haddonfield 1-9pm\n  \n 
URL:https://heritagewinenj.com/events/2022-holiday-hours/
LOCATION:Heritage Vineyards\, 480 Mullica Hill Road\, Mullica Hill\, NJ\, 08062\, United States
CATEGORIES:Upcoming Events
END:VEVENT
BEGIN:VEVENT
DTSTART;VALUE=DATE:20240331
DTEND;VALUE=DATE:20240401
DTSTAMP:20260425T101739
CREATED:20210107T174717Z
LAST-MODIFIED:20240128T153052Z
UID:6480-1711843200-1711929599@heritagewinenj.com
SUMMARY:Tasting Room Will Be Closed
DESCRIPTION:  \nBoth of our locations; Mullica Hill and Haddonfield will be closed today.
URL:https://heritagewinenj.com/events/tasting-room-will-be-closed/
LOCATION:Heritage Vineyards\, 480 Mullica Hill Road\, Mullica Hill\, NJ\, 08062\, United States
CATEGORIES:Upcoming Events
END:VEVENT
BEGIN:VEVENT
DTSTART;TZID=America/New_York:20240511T120000
DTEND;TZID=America/New_York:20240512T210000
DTSTAMP:20260425T101739
CREATED:20210429T193030Z
LAST-MODIFIED:20250508T124522Z
UID:6618-1715428800-1715547600@heritagewinenj.com
SUMMARY:Spring Wine Release Weekend May 11-12\, 2024 (Mother's Day)
DESCRIPTION:Join us in Mullica Hill or Haddonfield\nWe will be celebrating new wine releases!  \n \n2023 Proprietors White Blend \n20th Anniversary Red Blend \n2023 Grenache Syrah Rosé \n \n  \nThese new wines will be available for purchase by the glass or bottle and featured in our flights and tastings.   \nVendor Information for Mullica Hill \nSaturday May 11 \nMusic – Steph Owens (12-4) \nFood – Julio’s on Main (12-5) \nFood – Rent a Chef (12-5) \nSunday May 12 \nMusic – Jeff G (12-5) \nFood – Taste of Napoli (12-5) \nFood – Julio’s on Main (12-5) \n \nTo guarantee indoor seating in both Mullica Hill and Haddonfield\, reservations through TOCK will open on Friday\, April 12th.   \nWe are open our normal business hours on Sunday 12-6pm \n**Outdoor seating\, if weather permits\, is on a first come first serve basis. \n\nMullica Hill Reservations\nHaddonfield Reservations
URL:https://heritagewinenj.com/events/mothers-day-weekend-may-11-12-2024/
LOCATION:Heritage Vineyards\, 480 Mullica Hill Road\, Mullica Hill\, NJ\, 08062\, United States
CATEGORIES:Upcoming Events
END:VEVENT
BEGIN:VEVENT
DTSTART;TZID=America/New_York:20240527T120000
DTEND;TZID=America/New_York:20240527T210000
DTSTAMP:20260425T101739
CREATED:20210429T174843Z
LAST-MODIFIED:20240128T153947Z
UID:6613-1716811200-1716843600@heritagewinenj.com
SUMMARY:Memorial Day Tasting Room Will Be Closed
DESCRIPTION:Our tasting rooms in Mullica Hill and Haddonfield will be closed today.
URL:https://heritagewinenj.com/events/memorial-day-tasting-room-closed/
LOCATION:Heritage Vineyards\, 480 Mullica Hill Road\, Mullica Hill\, NJ\, 08062\, United States
CATEGORIES:Upcoming Events
END:VEVENT
BEGIN:VEVENT
DTSTART;TZID=America/New_York:20240601T120000
DTEND;TZID=America/New_York:20240630T210000
DTSTAMP:20260425T101739
CREATED:20210429T180008Z
LAST-MODIFIED:20240516T204258Z
UID:6615-1717243200-1719781200@heritagewinenj.com
SUMMARY:Wine Club Member Appreciation Month
DESCRIPTION:  \n\nMembers Join Us!\nThis year we will celebrate our members all month.   \nIn your Summer Allocation you will receive a card for a complimentary glass of wine\, special cheese box and a 25% off discount card.  \nThese member appreciation cards are in addition to your 2 quarterly benefit cards. \nSaturday\, June 1 \nEntertainer – Dave Kelly 1-6pm \nFood Vendor – Crabby Chef \nSaturday\, June 8 \nEntertainer – Erik Wozniak 1-6pm \nFood Vendor Cousins Maine Lobster \nSaturday\, June 15 \nEntertainer – Sean Jennings – 1-6pm \nFood Vendor – Top Shelf Mobile Cuisine \nSaturday\, June 22 \nEntertainer – Noah Richardson  1-6pm \nFood Vendor – Bistro Society \nSaturday\, June 29 \nEntertainer – Ryan Wokock 1-6pm \nFood Vendor – Cousins Maine Lobster \n  \n  \n  \n  \n  \n  \n 
URL:https://heritagewinenj.com/events/wine-club-member-appreciation-month/
LOCATION:Heritage Vineyards\, 480 Mullica Hill Road\, Mullica Hill\, NJ\, 08062\, United States
CATEGORIES:Upcoming Events
END:VEVENT
BEGIN:VEVENT
DTSTART;TZID=America/New_York:20240704T120000
DTEND;TZID=America/New_York:20240704T210000
DTSTAMP:20260425T101739
CREATED:20190209T124206Z
LAST-MODIFIED:20240701T202906Z
UID:4963-1720094400-1720126800@heritagewinenj.com
SUMMARY:Tasting Room Closed - Thursday\, July 4\, 2024
DESCRIPTION:  \n  \n  \nEnjoy the holiday with your family and friends but make sure to pick up your favorite William Heritage Wine for your BBQ and backyard gathering!  \nBoth locations; Mullica Hill and Haddonfield will be closed today. \n 
URL:https://heritagewinenj.com/events/tasting-room-closed-thursday-july-4-2024/
LOCATION:Heritage Vineyards\, 480 Mullica Hill Road\, Mullica Hill\, NJ\, 08062\, United States
CATEGORIES:Upcoming Events
ATTACH;FMTTYPE=image/png:https://heritagewinenj.com/wp-content/uploads/2019/02/fourth.png
END:VEVENT
BEGIN:VEVENT
DTSTART;TZID=America/New_York:20241128T120000
DTEND;TZID=America/New_York:20241128T210000
DTSTAMP:20260425T101739
CREATED:20181031T183421Z
LAST-MODIFIED:20240726T171356Z
UID:4702-1732795200-1732827600@heritagewinenj.com
SUMMARY:Tasting Room is Closed for the Thanksgiving Holiday
DESCRIPTION: \nFrom our family and staff\, have a very enjoyable Thanksgiving. \n– The Heritage Family \n 
URL:https://heritagewinenj.com/events/thursday-noveomber-22-2018-tastng-room-closed/
LOCATION:Heritage Vineyards\, 480 Mullica Hill Road\, Mullica Hill\, NJ\, 08062\, United States
CATEGORIES:Upcoming Events
END:VEVENT
BEGIN:VEVENT
DTSTART;TZID=America/New_York:20241129T120000
DTEND;TZID=America/New_York:20241201T210000
DTSTAMP:20260425T101739
CREATED:20181031T180951Z
LAST-MODIFIED:20241120T134831Z
UID:4690-1732881600-1733086800@heritagewinenj.com
SUMMARY:SAVE THE DATE - The Big 3-Day Sale
DESCRIPTION:Biggest Sale of The Year\nDiscounts coming soon!\n 
URL:https://heritagewinenj.com/events/the-big-3-day-sale/
LOCATION:Heritage Vineyards\, 480 Mullica Hill Road\, Mullica Hill\, NJ\, 08062\, United States
CATEGORIES:Upcoming Events
ATTACH;FMTTYPE=image/jpeg:https://heritagewinenj.com/wp-content/uploads/2018/10/Big-Three-Day-Sale.jpeg
END:VEVENT
BEGIN:VEVENT
DTSTART;TZID=America/New_York:20241214T120000
DTEND;TZID=America/New_York:20241224T210000
DTSTAMP:20260425T101739
CREATED:20201210T211137Z
LAST-MODIFIED:20241212T160542Z
UID:6459-1734177600-1735074000@heritagewinenj.com
SUMMARY:Holiday Gift Card Promotion
DESCRIPTION:Gift cards can be bought in both tasting rooms.  These gift cards are valid for in-store purchase only (can not be used online). \nYou can also buy gift cards online as well.  If you buy $100 worth of gift cards\, your $25 bonus card will be added to your online order.
URL:https://heritagewinenj.com/events/holiday-gift-card-promotion-save-the-date/
LOCATION:Heritage Vineyards\, 480 Mullica Hill Road\, Mullica Hill\, NJ\, 08062\, United States
CATEGORIES:Upcoming Events
ATTACH;FMTTYPE=image/jpeg:https://heritagewinenj.com/wp-content/uploads/2020/12/Holiday_GiftCard_SocialPost.jpg
END:VEVENT
BEGIN:VEVENT
DTSTART;TZID=America/New_York:20250329T130000
DTEND;TZID=America/New_York:20250329T200000
DTSTAMP:20260425T101739
CREATED:20230807T163305Z
LAST-MODIFIED:20250327T131123Z
UID:7400-1743253200-1743278400@heritagewinenj.com
SUMMARY:Julio's On Main Food Truck
DESCRIPTION: \nSaturday\, March 29th – Mullica Hill Tasting Room\n1-8pm (or until food truck has sold out)\n \nCome spend the day with us and Julio’s on Main  \nFood truck fare for purchase – Best Mexican Restaurant in South Jersey \nThe winners of New Jersey Monthly’s 40th annual Jersey Choice Restaurant Poll. By New Jersey Monthly\n  \n \n  \n  \n  \n 
URL:https://heritagewinenj.com/events/taco-food-truck-at-william-heritage-winery/
LOCATION:Heritage Vineyards\, 480 Mullica Hill Road\, Mullica Hill\, NJ\, 08062\, United States
CATEGORIES:Upcoming Events
ATTACH;FMTTYPE=image/jpeg:https://heritagewinenj.com/wp-content/uploads/2023/08/julio.jpeg
END:VEVENT
BEGIN:VEVENT
DTSTART;TZID=America/New_York:20250518T070000
DTEND;TZID=America/New_York:20250518T120000
DTSTAMP:20260425T101739
CREATED:20171110T203554Z
LAST-MODIFIED:20250102T155746Z
UID:4109-1747551600-1747569600@heritagewinenj.com
SUMMARY:Run the Vineyards – 5K Run
DESCRIPTION:  \nRun the Vineyards – 5K Run will be back at William Heritage Winery on  Sunday May 18\, 2025.\nJoin us for a scenic run followed by a post race celebration featuring wine\, live music\, food truck fare\, and more.\n \nTo register click here \n**Any questions regarding the race should be directed to Good Day For A Run**\n \n 
URL:https://heritagewinenj.com/events/runthevineyards/
LOCATION:Heritage Vineyards\, 480 Mullica Hill Road\, Mullica Hill\, NJ\, 08062\, United States
CATEGORIES:Upcoming Events
ATTACH;FMTTYPE=image/jpeg:https://heritagewinenj.com/wp-content/uploads/2017/11/WilliamHeritageFall5K-1.jpg
ORGANIZER;CN="Good Day for a Run":MAILTO:ken@gooddayforarun.com
END:VEVENT
BEGIN:VEVENT
DTSTART;TZID=America/New_York:20260201T120000
DTEND;TZID=America/New_York:20260228T210000
DTSTAMP:20260425T101739
CREATED:20250102T213318Z
LAST-MODIFIED:20260121T184246Z
UID:4693-1769947200-1772312400@heritagewinenj.com
SUMMARY:Wine & Chocolate Pairing
DESCRIPTION:Join us all month long this February for a decadent Wine & Chocolate Pairing\, thoughtfully curated to highlight the harmony between our wines and handcrafted chocolates from Mecha Chocolate.\n\n\n\nEach pairing is designed to elevate both the wine and the chocolate\, bringing out subtle notes\, bold contrasts\, and indulgent finishes in every sip and bite.\n\n\n\n\n\n\n\n🍷 Choose Your Pairing Experience\n\n\n\n\n\nDry Wine & Chocolate Pairing\n\n\n\nWine Club Members: $18 per personNon-Members: $24 per person \n\n\n\nChenin Blanc with Honey Thyme Caramel1851 Red Blend with Raspberry GanacheFortified Red Blend with Double Dark GanacheSticky with Exotic Caramel \n\n\n\n\n\n\n\n\n\nSweet Wine & Chocolate Pairing\n\n\n\nWine Club Members: $16 per personNon-Members: $22 per person \n\n\n\nHard Cider with Strawberry Caramel Crunch MendiantJersey White with Raspberry Lemonade CaramelSpiked Blueberry Lemonade with Moscow Mule GanacheJersey Peach with Fleur de Sel Caramel \n\n\n\n\n\n\n\n\n\n\n\n\n\n🍷 Locations & Reservations\n\n\n\nAvailable at both tasting room locations for the entire month of February: \n\n\n\nMullica Hill Tasting Room \n\n\n\nHaddonfield Tasting Room \n\n\n\n👉 Make a Reservation\n\n\n\nReservations are strongly recommended\, especially for weekends. \n\n\n\n\n\nReserve in Mullica Hill\n\n\n\n\n\nReserve in Haddonfield\n\n\n\n\n\n \n\n\n\n⏰ Reservation Details (Important!)\n\n\n\nReservations are required on:February 6\, 7\, 8\, 13\, 14 & 15 \n\n\n\nReservations are available all month long \n\n\n\nWalk-ins are welcome on non-required dates and will be seated first-come\, first-served \n\n\n\nReservations are for 2-hour seating \n\n\n\nWine Club Members: Reservations open Friday\, January 9 \n\n\n\nAll Guests: Reservations open Friday\, January 23 \n\n\n\n  \n\n\n\n  \n\n\n\n  \n\n\n\n 
URL:https://heritagewinenj.com/events/wine-chocolate-event/
LOCATION:Heritage Vineyards\, 480 Mullica Hill Road\, Mullica Hill\, NJ\, 08062\, United States
CATEGORIES:Upcoming Events
ATTACH;FMTTYPE=image/jpeg:https://heritagewinenj.com/wp-content/uploads/2025/01/MAZ_9328-scaled.jpg
END:VEVENT
END:VCALENDAR