BEGIN:VCALENDAR
VERSION:2.0
PRODID:-//William Heritage Winery - ECPv6.14.2//NONSGML v1.0//EN
CALSCALE:GREGORIAN
METHOD:PUBLISH
X-WR-CALNAME:William Heritage Winery
X-ORIGINAL-URL:https://heritagewinenj.com
X-WR-CALDESC:Events for William Heritage Winery
REFRESH-INTERVAL;VALUE=DURATION:PT1H
X-Robots-Tag:noindex
X-PUBLISHED-TTL:PT1H
BEGIN:VTIMEZONE
TZID:America/New_York
BEGIN:DAYLIGHT
TZOFFSETFROM:-0500
TZOFFSETTO:-0400
TZNAME:EDT
DTSTART:20240310T070000
END:DAYLIGHT
BEGIN:STANDARD
TZOFFSETFROM:-0400
TZOFFSETTO:-0500
TZNAME:EST
DTSTART:20241103T060000
END:STANDARD
BEGIN:DAYLIGHT
TZOFFSETFROM:-0500
TZOFFSETTO:-0400
TZNAME:EDT
DTSTART:20250309T070000
END:DAYLIGHT
BEGIN:STANDARD
TZOFFSETFROM:-0400
TZOFFSETTO:-0500
TZNAME:EST
DTSTART:20251102T060000
END:STANDARD
BEGIN:DAYLIGHT
TZOFFSETFROM:-0500
TZOFFSETTO:-0400
TZNAME:EDT
DTSTART:20260308T070000
END:DAYLIGHT
BEGIN:STANDARD
TZOFFSETFROM:-0400
TZOFFSETTO:-0500
TZNAME:EST
DTSTART:20261101T060000
END:STANDARD
END:VTIMEZONE
BEGIN:VEVENT
DTSTART;TZID=America/New_York:20240704T120000
DTEND;TZID=America/New_York:20240704T210000
DTSTAMP:20260421T124328
CREATED:20190209T124206Z
LAST-MODIFIED:20240701T202906Z
UID:4963-1720094400-1720126800@heritagewinenj.com
SUMMARY:Tasting Room Closed - Thursday\, July 4\, 2024
DESCRIPTION:  \n  \n  \nEnjoy the holiday with your family and friends but make sure to pick up your favorite William Heritage Wine for your BBQ and backyard gathering!  \nBoth locations; Mullica Hill and Haddonfield will be closed today. \n 
URL:https://heritagewinenj.com/events/tasting-room-closed-thursday-july-4-2024/
LOCATION:Heritage Vineyards\, 480 Mullica Hill Road\, Mullica Hill\, NJ\, 08062\, United States
CATEGORIES:Upcoming Events
ATTACH;FMTTYPE=image/png:https://heritagewinenj.com/wp-content/uploads/2019/02/fourth.png
END:VEVENT
BEGIN:VEVENT
DTSTART;TZID=America/New_York:20241128T120000
DTEND;TZID=America/New_York:20241128T210000
DTSTAMP:20260421T124328
CREATED:20181031T183421Z
LAST-MODIFIED:20240726T171356Z
UID:4702-1732795200-1732827600@heritagewinenj.com
SUMMARY:Tasting Room is Closed for the Thanksgiving Holiday
DESCRIPTION: \nFrom our family and staff\, have a very enjoyable Thanksgiving. \n– The Heritage Family \n 
URL:https://heritagewinenj.com/events/thursday-noveomber-22-2018-tastng-room-closed/
LOCATION:Heritage Vineyards\, 480 Mullica Hill Road\, Mullica Hill\, NJ\, 08062\, United States
CATEGORIES:Upcoming Events
END:VEVENT
BEGIN:VEVENT
DTSTART;TZID=America/New_York:20241129T120000
DTEND;TZID=America/New_York:20241201T210000
DTSTAMP:20260421T124328
CREATED:20181031T180951Z
LAST-MODIFIED:20241120T134831Z
UID:4690-1732881600-1733086800@heritagewinenj.com
SUMMARY:SAVE THE DATE - The Big 3-Day Sale
DESCRIPTION:Biggest Sale of The Year\nDiscounts coming soon!\n 
URL:https://heritagewinenj.com/events/the-big-3-day-sale/
LOCATION:Heritage Vineyards\, 480 Mullica Hill Road\, Mullica Hill\, NJ\, 08062\, United States
CATEGORIES:Upcoming Events
ATTACH;FMTTYPE=image/jpeg:https://heritagewinenj.com/wp-content/uploads/2018/10/Big-Three-Day-Sale.jpeg
END:VEVENT
BEGIN:VEVENT
DTSTART;TZID=America/New_York:20241214T120000
DTEND;TZID=America/New_York:20241224T210000
DTSTAMP:20260421T124328
CREATED:20201210T211137Z
LAST-MODIFIED:20241212T160542Z
UID:6459-1734177600-1735074000@heritagewinenj.com
SUMMARY:Holiday Gift Card Promotion
DESCRIPTION:Gift cards can be bought in both tasting rooms.  These gift cards are valid for in-store purchase only (can not be used online). \nYou can also buy gift cards online as well.  If you buy $100 worth of gift cards\, your $25 bonus card will be added to your online order.
URL:https://heritagewinenj.com/events/holiday-gift-card-promotion-save-the-date/
LOCATION:Heritage Vineyards\, 480 Mullica Hill Road\, Mullica Hill\, NJ\, 08062\, United States
CATEGORIES:Upcoming Events
ATTACH;FMTTYPE=image/jpeg:https://heritagewinenj.com/wp-content/uploads/2020/12/Holiday_GiftCard_SocialPost.jpg
END:VEVENT
BEGIN:VEVENT
DTSTART;TZID=America/New_York:20250329T130000
DTEND;TZID=America/New_York:20250329T200000
DTSTAMP:20260421T124328
CREATED:20230807T163305Z
LAST-MODIFIED:20250327T131123Z
UID:7400-1743253200-1743278400@heritagewinenj.com
SUMMARY:Julio's On Main Food Truck
DESCRIPTION: \nSaturday\, March 29th – Mullica Hill Tasting Room\n1-8pm (or until food truck has sold out)\n \nCome spend the day with us and Julio’s on Main  \nFood truck fare for purchase – Best Mexican Restaurant in South Jersey \nThe winners of New Jersey Monthly’s 40th annual Jersey Choice Restaurant Poll. By New Jersey Monthly\n  \n \n  \n  \n  \n 
URL:https://heritagewinenj.com/events/taco-food-truck-at-william-heritage-winery/
LOCATION:Heritage Vineyards\, 480 Mullica Hill Road\, Mullica Hill\, NJ\, 08062\, United States
CATEGORIES:Upcoming Events
ATTACH;FMTTYPE=image/jpeg:https://heritagewinenj.com/wp-content/uploads/2023/08/julio.jpeg
END:VEVENT
BEGIN:VEVENT
DTSTART;TZID=America/New_York:20250518T070000
DTEND;TZID=America/New_York:20250518T120000
DTSTAMP:20260421T124328
CREATED:20171110T203554Z
LAST-MODIFIED:20250102T155746Z
UID:4109-1747551600-1747569600@heritagewinenj.com
SUMMARY:Run the Vineyards – 5K Run
DESCRIPTION:  \nRun the Vineyards – 5K Run will be back at William Heritage Winery on  Sunday May 18\, 2025.\nJoin us for a scenic run followed by a post race celebration featuring wine\, live music\, food truck fare\, and more.\n \nTo register click here \n**Any questions regarding the race should be directed to Good Day For A Run**\n \n 
URL:https://heritagewinenj.com/events/runthevineyards/
LOCATION:Heritage Vineyards\, 480 Mullica Hill Road\, Mullica Hill\, NJ\, 08062\, United States
CATEGORIES:Upcoming Events
ATTACH;FMTTYPE=image/jpeg:https://heritagewinenj.com/wp-content/uploads/2017/11/WilliamHeritageFall5K-1.jpg
ORGANIZER;CN="Good Day for a Run":MAILTO:ken@gooddayforarun.com
END:VEVENT
BEGIN:VEVENT
DTSTART;TZID=America/New_York:20260201T120000
DTEND;TZID=America/New_York:20260228T210000
DTSTAMP:20260421T124328
CREATED:20250102T213318Z
LAST-MODIFIED:20260121T184246Z
UID:4693-1769947200-1772312400@heritagewinenj.com
SUMMARY:Wine & Chocolate Pairing
DESCRIPTION:Join us all month long this February for a decadent Wine & Chocolate Pairing\, thoughtfully curated to highlight the harmony between our wines and handcrafted chocolates from Mecha Chocolate.\n\n\n\nEach pairing is designed to elevate both the wine and the chocolate\, bringing out subtle notes\, bold contrasts\, and indulgent finishes in every sip and bite.\n\n\n\n\n\n\n\n🍷 Choose Your Pairing Experience\n\n\n\n\n\nDry Wine & Chocolate Pairing\n\n\n\nWine Club Members: $18 per personNon-Members: $24 per person \n\n\n\nChenin Blanc with Honey Thyme Caramel1851 Red Blend with Raspberry GanacheFortified Red Blend with Double Dark GanacheSticky with Exotic Caramel \n\n\n\n\n\n\n\n\n\nSweet Wine & Chocolate Pairing\n\n\n\nWine Club Members: $16 per personNon-Members: $22 per person \n\n\n\nHard Cider with Strawberry Caramel Crunch MendiantJersey White with Raspberry Lemonade CaramelSpiked Blueberry Lemonade with Moscow Mule GanacheJersey Peach with Fleur de Sel Caramel \n\n\n\n\n\n\n\n\n\n\n\n\n\n🍷 Locations & Reservations\n\n\n\nAvailable at both tasting room locations for the entire month of February: \n\n\n\nMullica Hill Tasting Room \n\n\n\nHaddonfield Tasting Room \n\n\n\n👉 Make a Reservation\n\n\n\nReservations are strongly recommended\, especially for weekends. \n\n\n\n\n\nReserve in Mullica Hill\n\n\n\n\n\nReserve in Haddonfield\n\n\n\n\n\n \n\n\n\n⏰ Reservation Details (Important!)\n\n\n\nReservations are required on:February 6\, 7\, 8\, 13\, 14 & 15 \n\n\n\nReservations are available all month long \n\n\n\nWalk-ins are welcome on non-required dates and will be seated first-come\, first-served \n\n\n\nReservations are for 2-hour seating \n\n\n\nWine Club Members: Reservations open Friday\, January 9 \n\n\n\nAll Guests: Reservations open Friday\, January 23 \n\n\n\n  \n\n\n\n  \n\n\n\n  \n\n\n\n 
URL:https://heritagewinenj.com/events/wine-chocolate-event/
LOCATION:Heritage Vineyards\, 480 Mullica Hill Road\, Mullica Hill\, NJ\, 08062\, United States
CATEGORIES:Upcoming Events
ATTACH;FMTTYPE=image/jpeg:https://heritagewinenj.com/wp-content/uploads/2025/01/MAZ_9328-scaled.jpg
END:VEVENT
END:VCALENDAR